BEGIN:VCALENDAR
VERSION:2.0
PRODID:-//Sirio Abruzzo e Molise - ECPv6.15.16//NONSGML v1.0//EN
CALSCALE:GREGORIAN
METHOD:PUBLISH
X-WR-CALNAME:Sirio Abruzzo e Molise
X-ORIGINAL-URL:https://sirioabruzzoemolise.it
X-WR-CALDESC:Eventi per Sirio Abruzzo e Molise
REFRESH-INTERVAL;VALUE=DURATION:PT1H
X-Robots-Tag:noindex
X-PUBLISHED-TTL:PT1H
BEGIN:VTIMEZONE
TZID:Europe/Paris
BEGIN:DAYLIGHT
TZOFFSETFROM:+0100
TZOFFSETTO:+0200
TZNAME:CEST
DTSTART:20250330T010000
END:DAYLIGHT
BEGIN:STANDARD
TZOFFSETFROM:+0200
TZOFFSETTO:+0100
TZNAME:CET
DTSTART:20251026T010000
END:STANDARD
BEGIN:DAYLIGHT
TZOFFSETFROM:+0100
TZOFFSETTO:+0200
TZNAME:CEST
DTSTART:20260329T010000
END:DAYLIGHT
BEGIN:STANDARD
TZOFFSETFROM:+0200
TZOFFSETTO:+0100
TZNAME:CET
DTSTART:20261025T010000
END:STANDARD
BEGIN:DAYLIGHT
TZOFFSETFROM:+0100
TZOFFSETTO:+0200
TZNAME:CEST
DTSTART:20270328T010000
END:DAYLIGHT
BEGIN:STANDARD
TZOFFSETFROM:+0200
TZOFFSETTO:+0100
TZNAME:CET
DTSTART:20271031T010000
END:STANDARD
END:VTIMEZONE
BEGIN:VEVENT
DTSTART;TZID=Europe/Paris:20260306T180000
DTEND;TZID=Europe/Paris:20260306T200000
DTSTAMP:20260425T215350
CREATED:20260223T123744Z
LAST-MODIFIED:20260223T150311Z
UID:3472-1772820000-1772827200@sirioabruzzoemolise.it
SUMMARY:Approccio digitale nella protesi quotidiana
DESCRIPTION:Innovazione\, precisione e funzione nel workflow moderno\nPROGRAMMA\nOre 18:00 | DOTT. LORENZO VITTORINI“Impronta digitale su denti e impianti”Tecniche e vantaggi dell’acquisizione digitale \nOre 18:35 | MDT. ANGELO GALLOCCHIO (Upcera)“Predicibilità protesica nel workflow digitale”Ottimizzazione dei processi e controllo del risultati l in bigitale \nOre 19:15 | MDT. GIUSEPPE RAMPULLA (Itaka)“La logica della funzione”Registrazione precisa del movimenti mandibolari in digitale e creazione di protesi funzionali. \nPartecipazione gratuita.\nScarica la locandina \nEffettua l’iscrizione\nPer partecipare occorre compilare il modulo di iscrizione riportato di seguito. \n\n\n  \n\n\n\n\n	\n		 Cognome*\n \n		 \n	\n	\n		 Nome*\n \n		 \n	\n	\n		 Titolo\n \n		 \n	\n\n\n	\n		Email*\n\n		 \n	\n	\n		Telefono* \n		 \n	\n\n\n	\n		Città* \n		 \n	\n	\n		Provincia* \n		 \n	\n\n\n	\n		Come sei venuto a conoscenza dell'evento?\n\n		 \n	\n	\n		Hai intolleranze o allergie alimentari? Se si\, specificare.\n\n		 \n	\n\nSono: SocioNon SocioStudente / Specializzando\n \nAccetto la privacy policy riportata su questo sito web (obbligatorio)\n \n\n \n(*) Campi obbligatori
URL:https://sirioabruzzoemolise.it/eventi/approccio-digitale-nella-protesi-quotidiana/
LOCATION:Sirio Abruzzo e Molise\, Viale Gabriele D'Annunzio 73\, Pescara\, Italy
CATEGORIES:Eventi
ATTACH;FMTTYPE=image/jpeg:https://sirioabruzzoemolise.it/wp-content/uploads/2026/02/6marzojpg.jpg
END:VEVENT
BEGIN:VEVENT
DTSTART;TZID=Europe/Paris:20260314T090000
DTEND;TZID=Europe/Paris:20260314T170000
DTSTAMP:20260425T215350
CREATED:20260206T151250Z
LAST-MODIFIED:20260309T162340Z
UID:3355-1773478800-1773507600@sirioabruzzoemolise.it
SUMMARY:Il Paziente Virtuale 4D
DESCRIPTION:La registrazione dei movimenti mandibolari ed il montaggio in Articolatore Virtuale\nIn questo workshop esamineremo il protocollo efficace per ottenere l’acquisizione digitale dell’occlusione dinamica e statica per mezzo del dispositivo Zebris che consente di registrare una variazione della DVO\, la posizione di trattamento\, l’occlusione abituale\, i movimenti limite con e senza contatto dentale e tanto altro. La digitalizzazione dei dati clinici consentirà sia\nuna riproduzione virtuale del paziente stesso (Paziente Virtuale 4D) che un montaggio dei modelli in articolatore virtuale a valori individuali\, procedure alla base di un corretto inquadramento diagnostico per un iter riabilitativo moderno. \nProgramma\n• Acquisizione dei modelli virtuali mediante IOS\n• Arco facciale digitale\n• Registrazione bite in MIP\, Reference Position\, movimenti mandibolari limite a guida dentale\, registrazione guida conndilare\, assiografia\, analisi e variazione della DVO\n• Scansione facciale ed acquisizione dati extraorali\n• Importazione dei dati nei software CAD e procedure di allineamento dei modelli virtuali\, tutto ciò che è necessario sapere per assemblare modelli in Articolatore Virtuale con setting individuale\n• Principi di base per la realizzazione di una ceratura di diagnosi \n  \nIl corso ha un taglio pratico e sarà svolto con dimostrazione live su paziente\, a seguire prove pratiche di registrazione e montaggio per i partecipanti \n  \nRelatori\n\n\n\n\n\nLuca Lepidi\nProfessore a.c. per il Corso di Laurea in Odontoiatria\, Università degli Studi di Ferrara. Committee Members University of Michigan\, USA Post Graduate Program in Prosthodontics. International Speaker\, Active Member – Digital Dentistry Society. Laureato in Odontoiatria presso Università di Roma “La Sapienza” con lode nel 2001.\nSpecialista in Chirurgia Odontostomatologica Università “Tor Vergata”. Perfezionato in Gnatologia Università Statale di Milano. Perfezionato in Implantologia Università di Chieti “G. D’Annunzio”. Relatore in Congressi Nazionali ed Internazionali.\nAttività scientifica indicizzata su PubMed\, Google Scholar e Scopus. Esercita la libera professione dal 2001 ad Andria (BT).\n\n\n\nGaetano Iannello\nLaureato con Lode in Odontoiatria e Protesi Dentaria presso l’Università di Messina. Master di II livello in “Riabilitazioni Orali Complesse” presso l’Università di Catania. Perfezionato in Chirurgia Odontostomatologica con il Prof. E. Panzoni presso CTO Firenze. Perfezionamento in Protesi con il Prof. Passamonti e in Anatomia chirurgica con il Prof. J.F. Gaudy (Parigi).\nProfessore AC presso l’Università degli Studi di Messina (2013–2017). Relatore in Congressi Nazionali ed Internazionali. Autore di articoli scientifici su riviste internazionali.\n\n\n\nScarica la locandina \n\nIscrizione\nL’evento è aperto a tutti ed è gratuito.  \nPer partecipare occorre compilare il modulo di iscrizione riportato di seguito. \n\n\n  \n\n\n\n\n	\n		Cognome*\n\n\n		 \n	\n	\n		Nome*\n\n\n		 \n	\n	\n		Titolo\n\n\n		 \n	\n\n\n	\n		Email*\n\n\n		 \n	\n	\n		Telefono*\n\n\n		 \n	\n\n\n	\n		Città*\n\n\n		 \n	\n	\n		Provincia*\n\n\n		 \n	\n\n\n	\n		Sei Socio Sirio Abruzzo e Molise?\nSiNo\n		 \n	\n\n\n	\n		Indica il tuo ruolo:\n		 \n		OdontoiatraStudente in odontoiatriaIgienista dentaleAltro\n		 \n	\n\n\n	\n		\n			Indicare il ruolo:\n\n\n			 \n		\n	\n\n\n	\n		Come sei venuto a conoscenza dell'evento?\n\n\n		 \n	\n\n\n	\n		Accetto la privacy policy riportata su questo sito web (obbligatorio)\n		 \n	\n\n\n	\n		\n		 \n	\n\n(*) Campi obbligatori
URL:https://sirioabruzzoemolise.it/eventi/il-paziente-virtuale-4d/
LOCATION:Sirio Abruzzo e Molise\, Viale Gabriele D'Annunzio 73\, Pescara\, Italy
CATEGORIES:Corsi
ATTACH;FMTTYPE=image/png:https://sirioabruzzoemolise.it/wp-content/uploads/2026/02/Evento-Digital-Zebris-Lepidi-Iannello_quad.png
END:VEVENT
BEGIN:VEVENT
DTSTART;TZID=Europe/Paris:20260411T090000
DTEND;TZID=Europe/Paris:20260411T130000
DTSTAMP:20260425T215350
CREATED:20260220T151243Z
LAST-MODIFIED:20260223T150925Z
UID:3463-1775898000-1775912400@sirioabruzzoemolise.it
SUMMARY:La fotografia odontoiatrica
DESCRIPTION:Programma\n\n\n\n\nA cura di Piero Principi: \n\nPrincipi base di Fotografia\nLa tipologia di fotocamera ideale in odontoiatria\nCome gestire la triade dell’esposizione “ISO-Tempi-Diaframmi”\nIl perfetto bilanciamento del Bianco per ottenere colori realistici\nL’illuminazione nella fotografia odontoiatrica\nFunzionamento e tipologie di flash\nL’illuminazione nella fotografia extra-orale\n\n  \n\n\n\n\nCorso riservato a:\n\n\n\n\nOdontoiatri\, Igienisti Dentali\, ASO ed Odontotecnici \n  \n\n\nScarica la locandina \n  \nPer informazioni e iscrizioni\nContattare la Segreteria Sirio Abruzzo e Molise via e-mail all’indirizzo sirioabruzzoemolise@gmail.com o tramite telefono al 3518869424
URL:https://sirioabruzzoemolise.it/eventi/la-fotografia-odontoiatrica/
LOCATION:Sirio Abruzzo e Molise\, Viale Gabriele D'Annunzio 73\, Pescara\, Italy
CATEGORIES:Corsi
ATTACH;FMTTYPE=image/png:https://sirioabruzzoemolise.it/wp-content/uploads/2026/02/fotografia-sirio.png
END:VEVENT
BEGIN:VEVENT
DTSTART;VALUE=DATE:20260418
DTEND;VALUE=DATE:20260419
DTSTAMP:20260425T215350
CREATED:20260303T165629Z
LAST-MODIFIED:20260416T113629Z
UID:3504-1776470400-1776556799@sirioabruzzoemolise.it
SUMMARY:Il supporto dei materiali e del digitale nella riabilitazione protesica
DESCRIPTION:PROGRAMMA\n9:00 – Saluti delle Autorità\n9:30 – Pianificare la terapia protesica: strumenti e valutazioni per definire il percorso restaurativo (Dr. Carlo Pulcini)\n9:50 – Il cross mounting nell’era digitale (Dr. A. Grammatica)\n10:10 – Riabilitazione Protesica nel Paziente Disfunzionale (Prof. A. Modesti)\n10:30 – La predittività implanto-protesica pre-chirurgica (Prof. V. De Cicco)\n10:50 – Vertigini e disfunzioni dell’AM: approccio diagnostico (Dr. Vincenzo Marcelli)\n11:10 – Entanglement in Odontoiatria: l’interconnessione tra Materiali\, Algoritmi e Biologia nella Protesi Digitale (Prof. T Traini)\n11:30 – Smart Tech\, Smart Team: workflow digitale nelle riabilitazioni implanto-protesiche (Prof. G. D’Addazio – ODT G. Cameli)\n11:50 – Tecnologie da attivare e materiali da usare per garantire il risultato (ODT M. D’Anniballe)\n12:10 – Aspetti odontotecnici razionali: odierna analisi di materiali e procedure (ODT G. Vitale)\n12:40 – Percorso professionale e ricerca di nuovi materiali: l’approdo alla zirconia (ODT G. Narducci)  \n  \nMODERATORI\nProf. S. Caputi – Prof.ssa G. Murmura – Prof. M. D’Attilio – Prof.ssa S. Bernardi – Dr. C. Rapani – Dr. N. Di Lullo – Dr. L. Vittorini Orgeas – Dr. F. Mirarco – ODT G. Rossi \n  \nORGANIZZAZIONE SCIENTIFICA\nDr. A. Falco \n  \nIscrizioni\nL’evento è gratuito. Per partecipare è necessario compilare il seguente modulo di iscrizione: \n\n\n  \n\n\n\n\n	\n		Cognome*\n\n\n		 \n	\n	\n		Nome*\n\n\n		 \n	\n	\n		Titolo\n\n\n		 \n	\n\n\n	\n		Email*\n\n\n		 \n	\n	\n		Telefono*\n\n\n		 \n	\n\n\n	\n		Città*\n\n\n		 \n	\n	\n		Provincia*\n\n\n		 \n	\n\n\n	\n		Sei Socio Sirio Abruzzo e Molise?\nSiNo\n		 \n	\n\n\n	\n		Indica il tuo ruolo:\n		 \n		OdontoiatraStudente in odontoiatriaIgienista dentaleAltro\n		 \n	\n\n\n	\n		\n			Indicare il ruolo:\n\n\n			 \n		\n	\n\n\n	\n		Come sei venuto a conoscenza dell'evento?\n\n\n		 \n	\n\n\n	\n		Accetto la privacy policy riportata su questo sito web (obbligatorio)\n		 \n	\n\n\n	\n		\n		 \n	\n\n(*) Campi obbligatori
URL:https://sirioabruzzoemolise.it/eventi/supporto-materiali-e-digitale-nella-riabilitazione-protesica/
LOCATION:Chieti – Museo Universitario\, Piazza Trento e Trieste\, Chieti\, 66100
CATEGORIES:Eventi
ATTACH;FMTTYPE=image/jpeg:https://sirioabruzzoemolise.it/wp-content/uploads/2026/03/RollUp-quad.jpg
END:VEVENT
BEGIN:VEVENT
DTSTART;TZID=Europe/Paris:20260508T090000
DTEND;TZID=Europe/Paris:20260509T170000
DTSTAMP:20260425T215350
CREATED:20260220T145042Z
LAST-MODIFIED:20260423T175610Z
UID:3457-1778230800-1778346000@sirioabruzzoemolise.it
SUMMARY:Dr. Marco Ronda: La gestione dei tessuti duri e molli nella moderna GBR
DESCRIPTION:Programma\n\n\n\n\n1° giorno: programma didattico \nOre 09:00 -18:30 \nGBR: la rigenerazione ossea guidata a 360°\n\nCriterio di selezione del paziente candidato alla GBR\nLinee guida che regolano il successo alla GBR\nSelezione del device (barriera) in relazione al potenziale biologico del sito ricevente\nPresentazione e discussione della griglia decisionale della GBR\nMembrane riassorbibili: campi d’applicazione\, modalità di fissaggio\, risultati clinici e limiti.\nMembrane non riassorbibili rinforzate in titanio: campi d’applicazione\, devices per il fissaggio\, risultati clinici\, complicanze\, limiti\nMesh customizzate di nuova generazione: campi d’applicazione\, potenzialità\, strategia di fissaggio\, prospettive e futuro\, modalità di rimozione\nOne Stage Vs Two Stages: scelta della procedura in funzione del criterio biologico e\, per i settori anteriori\, delle esigenze estetiche\nOne Stage Vs Two Stages: casi clinici esemplificativi dell’applicazione dell’una o dell’altra procedura\nOne Stage Vs Two Stages: indicazioni e controindicazioni dell’una o dell’altra tecnica\nGestione dei tessuti molli post GBR\nUtilizzo di graft autologhi o omologhi: quando come e perchè?\nRestauro della profondità di fornice: quando è necessario?\nIncremento banda gengiva aderente mancante: quando e come eseguirlo Step by step del Timing e Protocollo GBR\n\n  \n2° giorno: programma didattico \nOre 09:00 -15:30 \nGestione dei tessuti molli post GBRInnesto Epitelio Connettivale:\n\nMisurazione del sito da innesto e preparazione del template\nDescrizione della nuova tecnica di innesto palatale per evitare danni alle strutture vascolari e per ottenere prelievi sottili\nTecnica delle suture sospese ad ancoraggio buccale\, dentale\, per la stabilizzazione del sanguinamento del sito del donatore\nPreparazione del sito ricevente con l’elevazione di un lembo a mezzo spessore\nTecnica di sutura per il riposizionamento del fornice\nTecniche di sutura per la stabilizzazione e la compressione dell’innesto sul sito ricevente\nInnesto di tessuto connettivo:\nTecnica di prelievo del tessuto connettivo\, considerazioni sull’area donatrice ideale in relazione alla migliore qualità dell’innesto\nPreparazione dell’innesto (da epitelio connettivale a connettivale) attraverso una disepitelizzazione superficiale\nDiverse tecniche di sutura per la stabilizzazione del tessuto connettivo sul periostio o sul letto osseo\n\nTecniche di sutura: \n\nSutura interrotta\, modalità di stabilizzazione in relazione al tipo di sutura (PGA o Teflon)\nSutura a materassaio orizzontale\nSutura a materassaio verticale\nSutura secondo la metodica Sentineri\nSutura continua\nTecnica di stabilizzazione del primo nodo per evitarne l’allentamento\n\nRelatore\n \nDr. Marco Ronda \nLaureato in medicina e chirurgia nel 1990 presso l’Università di Verona\, esercita da allora la libera professione. Dal 1998 ha iniziato a collaborare con la Sulzer Calciteck oggi diventata Zimmer Dental; è per essa\, uno degli studi della città di Genova\, responsabile del Surgical Training Center. Tra i numerosi corsi attesta la frequenza al corso annuale di chirurgia avanzata tenutosi presso lo studio del Prof. Massimo Simion e ha frequentato il master tenutosi presso l’università della Pennsylvania sulle tecniche chirurgiche rigenerative. Partecipa annualmente al meeting organizzato dall’accademia americana di implantologia dentale e ai corsi specialistici sulle tecniche di rigenerazione ossea orizzon- tale e verticale. Partecipa inoltre annualmente\, alla Continuing Dental Education della New York University College of Dentistry Post Graduate. È periodicamente relatore\, presso il proprio studio\, di corsi teorico-pratici di Implantologia e Tecniche di rigenerazione ossea; collabora inoltre con le Università di Bologna\, Milano\, Trieste\, Modena\, Pisa e Genova in qualità di docente masterista nei corsi di specializzazione che riguardano le tecniche chirurgiche rigenerative. Tra le sue pubblicazioni di maggior rilievo sono da citare:\n• l’articolo pubblicato sull’International Journal (Int. J Periodontics Restorative Dent 2011; 31:505-513.) in cui viene descritta una nuova tecnica chirurgica per la passivazione del lembo linguale da utilizzarsi negli aumenti di volume in genere.\n• articolo pubblicato sull’International Journal of Periodontics & Restorative Dentistry\, che descrive una nuova tecnica di passivazione del lembo buccale:“A Novel Approach For The Coronal Advan- cement Of The Buccal Flap” (The “Brushing” Tecnique) Si è dedicato allo sviluppo della tecnica chirurgica di GBR della quale ha all’attivo più di 200 casi di incremento osseo verticale. \n \nScarica la locandina\n  \n\nPer informazioni e iscrizioni\nContattare la Segreteria Sirio Abruzzo e Molise via e-mail all’indirizzo sirioabruzzoemolise@gmail.com o tramite telefono al 3518869424
URL:https://sirioabruzzoemolise.it/eventi/la-gestione-dei-tessuti-duri-e-molli-nella-moderna-gbr/
LOCATION:Sirio Abruzzo e Molise\, Viale Gabriele D'Annunzio 73\, Pescara\, Italy
CATEGORIES:Corsi
ATTACH;FMTTYPE=image/jpeg:https://sirioabruzzoemolise.it/wp-content/uploads/2026/02/Dr-Marco-Ronda.jpeg
END:VEVENT
BEGIN:VEVENT
DTSTART;TZID=Europe/Paris:20260523T090000
DTEND;TZID=Europe/Paris:20260523T133000
DTSTAMP:20260425T215350
CREATED:20260220T141919Z
LAST-MODIFIED:20260223T151322Z
UID:3437-1779526800-1779543000@sirioabruzzoemolise.it
SUMMARY:Protocolli Clinici Multidisciplinari di Sbiancamento e Trattamento dei Difetti dello Smalto e delle Discromie Dentali
DESCRIPTION:Obiettivi del corso\nLa sempre maggiore richiesta di estetica da parte dei pazienti pone ai clinici la necessità di ampliare sempre più il ventaglio delle proprie soluzioni terapeutiche attraverso metodiche minimamente invasive. Spesso però negli operatori sorgono dei dubbi su quali siano le tecniche più affidabili per ottenere il successo\, specie quando si parla di difetti di sviluppo dello smalto o discromie in area estetica. Lo scopo del corso è quello di fornire ai partecipanti le principali soluzioni oggi esistenti per riconoscere e trattare con successo\, in maniera minimamente invasiva\, le discromie più frequenti e anomalie dello smalto. \nProgramma\n9.00-11.00: Dr. Roberto Turrini\n“La moderna classificazione delle discromie. La diagnosi come punto di partenza per il successo terapeutico. Tecniche di sbiancamento: domiciliare\, ambulatoriale e combinate.” \n11.00-11.15: COFFEE BREAK \n11.15-13.00: Dr. Federico Emiliani\n“Il trattamento delle lesioni bianche dello smalto. \n13.00-13.30: Video dimostrativo.\nCostruzione mascherina e domande. \nRelatori\n  \n\n\n\n\n\nRoberto Turrini si laurea in Odontoiatria e protesi dentaria presso l’Università degli Studi di Firenze nel 2004. Dal 2005 lavora come collaboratore presso lo studio del Dott. Mauro Fradeani a Pesaro ed è socio fondatore del team Fradeani Education. Ha partecipato a corsi di protesi sia in ambito nazionale che internazionale\, oltre a programmi annuali su implantologia e odontoiatria estetica. Svolge la sua attività professionale a Pesaro\, Terni e Firenze\, occupandosi di odontoiatria restaurativa\, protesica ed estetica. Socio attivo della IAED (Italian Academy of Esthetic Dentistry) e della SIDOC (Società Italiana di Odontoiatria Conservatrice)\, è autore di articoli su riviste scientifiche che nazionali e internazionali e co-autore del testo “Sbiancamento dentale: metodi per il successo”\, edito da Quintessenza Edizioni nel\n2011 e tradotto in tedesco e spagnolo. Svolge un’intensa attività didattica e congressuale in tutto il mondo in tema di protesi fissa e odontoiatria estetica. Nel 2023\, insieme al Dott. Federico Emiliani\, ha pubblicato il libro di testo “Black&White – Protocolli Clinici Multidisciplinari di Cariologia\, Sbiancamento e trattamento delle discromie dentali”\, tradotto e pubblicato anche in lingua inglese nel 2025 (Ed. EDRA).\n\n\n\nFederico Emiliani si laurea in Odontoiatria e protesi dentaria presso l’Università degli Studi di Roma “Tor Vergata”nel 2009. Nello stesso anno apre il suo primo studio odontoiatrico a Roma. Contemporaneamente presta attività di collaborazione in diversi studi d’Italia fi no a quando\, nel 2013\, apre il suo secondo studio odontoiatrico\, a Frosinone\, insieme al Dott. Domenico Crescenzi. Frequenta diversi corsi di aggiornamento post-laurea in ambito nazionale e internazionale\, tra cui il master in Protesi fissa del Dott. Mauro Fradeani\, il master in Implantologia del Dott. Stefano Gori\, e altri corsi nell’ambito dell’odontoiatria estetica e della chirurgia. Esercita la libera professione nei suoi studidedicandosi alla cariologia\, all’odontoiatria restaurativa e protesica\, all’estetica e all’implantologia. Nel 2017 entra a far parte del team Fradeani Education come relatore. Svolge attività didattica e congressuale in Italia e all’estero sulle tematiche della cariologia\, dell’estetica e dell’odontoiatria protesica e digitale. Nel 2023\, insieme al Dott. Roberto Turrini\, ha pubblicato il libro di testo “Black&White – Protocolli Clinici Multidisciplinari di Cariologia\, Sbiancamento e trattamento delle discromie dentali”\, tradotto e pubblicato anche in lingua inglese nel 2025 (Ed. EDRA).\n\n\n\n \n \nScarica la locandina\n  \nPer informazioni e iscrizioni\nContattare la Segreteria Sirio Abruzzo e Molise via e-mail all’indirizzo sirioabruzzoemolise@gmail.com o tramite telefono al 3518869424
URL:https://sirioabruzzoemolise.it/eventi/protocolli-clinici-multidisciplinari-di-sbiancamento-e-trattamento-dei-difetti-dello-smalto-e-delle-discromie-dentali/
LOCATION:Sirio Abruzzo e Molise\, Viale Gabriele D'Annunzio 73\, Pescara\, Italy
CATEGORIES:Corsi
ATTACH;FMTTYPE=image/png:https://sirioabruzzoemolise.it/wp-content/uploads/2026/02/sbiancamento2.png
END:VEVENT
BEGIN:VEVENT
DTSTART;TZID=Europe/Paris:20261003T090000
DTEND;TZID=Europe/Paris:20261003T130000
DTSTAMP:20260425T215350
CREATED:20260303T165949Z
LAST-MODIFIED:20260303T170917Z
UID:3508-1791018000-1791032400@sirioabruzzoemolise.it
SUMMARY:Tecniche di sedazione cosciente: benzodiazepine e protossido d'azoto
DESCRIPTION:Relatore\nDr. Pantaleo Lorusso \n  \nIscrizioni\nLe iscrizioni verranno aperte a breve.
URL:https://sirioabruzzoemolise.it/eventi/tecniche-di-sedazione-cosciente-benzodiazepine-e-protossido-dazoto/
LOCATION:Sirio Abruzzo e Molise\, Viale Gabriele D'Annunzio 73\, Pescara\, Italy
CATEGORIES:Eventi
ATTACH;FMTTYPE=image/png:https://sirioabruzzoemolise.it/wp-content/uploads/2026/03/Per-maggiori-informazioni.png
END:VEVENT
BEGIN:VEVENT
DTSTART;TZID=Europe/Paris:20261024T090000
DTEND;TZID=Europe/Paris:20261024T130000
DTSTAMP:20260425T215350
CREATED:20260303T170347Z
LAST-MODIFIED:20260303T170347Z
UID:3510-1792832400-1792846800@sirioabruzzoemolise.it
SUMMARY:Disturbi respiratori del sonno
DESCRIPTION:Relatore\nProf. A. De Vito \n  \nIscrizioni\nLe iscrizioni verranno aperte a breve.
URL:https://sirioabruzzoemolise.it/eventi/disturbi-respiratori-del-sonno/
LOCATION:Sirio Abruzzo e Molise\, Viale Gabriele D'Annunzio 73\, Pescara\, Italy
CATEGORIES:Eventi
ATTACH;FMTTYPE=image/png:https://sirioabruzzoemolise.it/wp-content/uploads/2026/03/Per-maggiori-informazioni.png
END:VEVENT
BEGIN:VEVENT
DTSTART;TZID=Europe/Paris:20261029T150000
DTEND;TZID=Europe/Paris:20261029T190000
DTSTAMP:20260425T215350
CREATED:20260303T170627Z
LAST-MODIFIED:20260303T170627Z
UID:3512-1793286000-1793300400@sirioabruzzoemolise.it
SUMMARY:Beyond the limits of periodontal regeneration: the role of soft tissue management - To remove or to treat an implant affected by peri-implantitis - that is the question!
DESCRIPTION:Relatore\nProf. M. Romandini \n  \nIscrizioni\nLe iscrizioni verranno aperte a breve.
URL:https://sirioabruzzoemolise.it/eventi/beyond-the-limits-of-periodontal-regeneration-the-role-of-soft-tissue-management-to-remove-or-to-treat-an-implant-affected-by-peri-implantitis-that-is-the-question/
CATEGORIES:Eventi
ATTACH;FMTTYPE=image/png:https://sirioabruzzoemolise.it/wp-content/uploads/2026/03/Per-maggiori-informazioni.png
END:VEVENT
BEGIN:VEVENT
DTSTART;TZID=Europe/Paris:20261205T090000
DTEND;TZID=Europe/Paris:20261205T130000
DTSTAMP:20260425T215350
CREATED:20260303T170756Z
LAST-MODIFIED:20260303T170756Z
UID:3514-1796461200-1796475600@sirioabruzzoemolise.it
SUMMARY:Short implants VS impianti zigomatici
DESCRIPTION:Relatore\nProf. P. Felice \n  \nIscrizioni\nLe iscrizioni verranno aperte a breve.
URL:https://sirioabruzzoemolise.it/eventi/short-implants-vs-impianti-zigomatici/
CATEGORIES:Eventi
ATTACH;FMTTYPE=image/png:https://sirioabruzzoemolise.it/wp-content/uploads/2026/03/Per-maggiori-informazioni.png
END:VEVENT
END:VCALENDAR